BEGIN:VCALENDAR
VERSION:2.0
PRODID:-//jEvents 2.0 for Joomla//EN
CALSCALE:GREGORIAN
METHOD:PUBLISH
BEGIN:VTIMEZONE
TZID:America/Los_Angeles
BEGIN:STANDARD
DTSTART:20221106T010000
RDATE:20230312T030000
TZOFFSETFROM:-0700
TZOFFSETTO:-0800
TZNAME:America/Los_Angeles PST
END:STANDARD
BEGIN:STANDARD
DTSTART:20231105T010000
RDATE:20240310T030000
TZOFFSETFROM:-0700
TZOFFSETTO:-0800
TZNAME:America/Los_Angeles PST
END:STANDARD
BEGIN:STANDARD
DTSTART:20241103T010000
RDATE:20250309T030000
TZOFFSETFROM:-0700
TZOFFSETTO:-0800
TZNAME:America/Los_Angeles PST
END:STANDARD
BEGIN:STANDARD
DTSTART:20251102T010000
RDATE:20260308T030000
TZOFFSETFROM:-0700
TZOFFSETTO:-0800
TZNAME:America/Los_Angeles PST
END:STANDARD
BEGIN:STANDARD
DTSTART:20261101T010000
RDATE:20270314T030000
TZOFFSETFROM:-0700
TZOFFSETTO:-0800
TZNAME:America/Los_Angeles PST
END:STANDARD
BEGIN:DAYLIGHT
DTSTART:20220908T090000
RDATE:20221106T010000
TZOFFSETFROM:-0800
TZOFFSETTO:-0700
TZNAME:America/Los_Angeles PDT
END:DAYLIGHT
BEGIN:DAYLIGHT
DTSTART:20230312T030000
RDATE:20231105T010000
TZOFFSETFROM:-0800
TZOFFSETTO:-0700
TZNAME:America/Los_Angeles PDT
END:DAYLIGHT
BEGIN:DAYLIGHT
DTSTART:20240310T030000
RDATE:20241103T010000
TZOFFSETFROM:-0800
TZOFFSETTO:-0700
TZNAME:America/Los_Angeles PDT
END:DAYLIGHT
BEGIN:DAYLIGHT
DTSTART:20250309T030000
RDATE:20251102T010000
TZOFFSETFROM:-0800
TZOFFSETTO:-0700
TZNAME:America/Los_Angeles PDT
END:DAYLIGHT
BEGIN:DAYLIGHT
DTSTART:20260308T030000
RDATE:20261101T010000
TZOFFSETFROM:-0800
TZOFFSETTO:-0700
TZNAME:America/Los_Angeles PDT
END:DAYLIGHT
END:VTIMEZONE
BEGIN:VEVENT
UID:07c3c764f96a4cf8af00d2aedbf96d6b
CATEGORIES:Default
SUMMARY:Russian Kids Club
DESCRIPTION;ENCODING=QUOTED-PRINTABLE:<p>Russian Kids Club </p><p>Every Saturday </p><p>9am-5pm</p><p>Rooms 8,9,1
 0, and McDonald Hall</p>
DTSTAMP:20260425T044543Z
DTSTART;TZID=America/Los_Angeles:20230909T090000
DTEND;TZID=America/Los_Angeles:20230909T170000
SEQUENCE:0
RRULE:FREQ=WEEKLY;UNTIL=20240609T000000Z;INTERVAL=1;BYDAY=SA
EXDATE;TZID=America/Los_Angeles:20231125T090000,20231216T090000,20231223T090000,20231230T090000,20240106T09
 0000,20240330T090000,20240525T090000
TRANSP:OPAQUE
END:VEVENT
BEGIN:VEVENT
UID:07c3c764f96a4cf8af00d2aedbf96d6b
CATEGORIES:Default
SUMMARY:Russian Kids Club
DESCRIPTION;ENCODING=QUOTED-PRINTABLE:<p>Russian Kids Club&nbsp;</p><p>Every Saturday&nbsp;</p><p>9am-5pm</p><p>M
 eet in&nbsp; McDonald Hall Only</p>

DTSTAMP;TZID=America/Los_Angeles:20260425T044543
DTSTART;TZID=America/Los_Angeles:20231209T090000
DTEND;TZID=America/Los_Angeles:20231209T170000
RECURRENCE-ID;TZID=America/Los_Angeles:20231209T090000
SEQUENCE:0
TRANSP:OPAQUE
END:VEVENT
END:VCALENDAR