BEGIN:VCALENDAR
VERSION:2.0
PRODID:-//jEvents 2.0 for Joomla//EN
CALSCALE:GREGORIAN
METHOD:PUBLISH
BEGIN:VTIMEZONE
TZID:America/Los_Angeles
BEGIN:STANDARD
DTSTART:20220228T180000
RDATE:20220313T030000
TZOFFSETFROM:-0700
TZOFFSETTO:-0800
TZNAME:America/Los_Angeles PST
END:STANDARD
BEGIN:STANDARD
DTSTART:20221106T010000
RDATE:20230312T030000
TZOFFSETFROM:-0700
TZOFFSETTO:-0800
TZNAME:America/Los_Angeles PST
END:STANDARD
BEGIN:STANDARD
DTSTART:20231105T010000
RDATE:20240310T030000
TZOFFSETFROM:-0700
TZOFFSETTO:-0800
TZNAME:America/Los_Angeles PST
END:STANDARD
BEGIN:STANDARD
DTSTART:20241103T010000
RDATE:20250309T030000
TZOFFSETFROM:-0700
TZOFFSETTO:-0800
TZNAME:America/Los_Angeles PST
END:STANDARD
BEGIN:STANDARD
DTSTART:20251102T010000
RDATE:20260308T030000
TZOFFSETFROM:-0700
TZOFFSETTO:-0800
TZNAME:America/Los_Angeles PST
END:STANDARD
BEGIN:STANDARD
DTSTART:20261101T010000
RDATE:20270314T030000
TZOFFSETFROM:-0700
TZOFFSETTO:-0800
TZNAME:America/Los_Angeles PST
END:STANDARD
BEGIN:DAYLIGHT
DTSTART:20220313T030000
RDATE:20221106T010000
TZOFFSETFROM:-0800
TZOFFSETTO:-0700
TZNAME:America/Los_Angeles PDT
END:DAYLIGHT
BEGIN:DAYLIGHT
DTSTART:20230312T030000
RDATE:20231105T010000
TZOFFSETFROM:-0800
TZOFFSETTO:-0700
TZNAME:America/Los_Angeles PDT
END:DAYLIGHT
BEGIN:DAYLIGHT
DTSTART:20240310T030000
RDATE:20241103T010000
TZOFFSETFROM:-0800
TZOFFSETTO:-0700
TZNAME:America/Los_Angeles PDT
END:DAYLIGHT
BEGIN:DAYLIGHT
DTSTART:20250309T030000
RDATE:20251102T010000
TZOFFSETFROM:-0800
TZOFFSETTO:-0700
TZNAME:America/Los_Angeles PDT
END:DAYLIGHT
BEGIN:DAYLIGHT
DTSTART:20260308T030000
RDATE:20261101T010000
TZOFFSETFROM:-0800
TZOFFSETTO:-0700
TZNAME:America/Los_Angeles PDT
END:DAYLIGHT
END:VTIMEZONE
BEGIN:VEVENT
UID:858eaf25c8170e4213baa316d0e41beb
CATEGORIES:Default
SUMMARY:Cub Scout Pack 1203
DESCRIPTION;ENCODING=QUOTED-PRINTABLE:<p>This group meets every Wednesday in Rooms 6, 7, 8 and McDonald Hall from
  6:00pm-7:30pm.</p>
DTSTAMP:20260424T060249Z
DTSTART;TZID=America/Los_Angeles:20230301T180000
DTEND;TZID=America/Los_Angeles:20230301T193000
SEQUENCE:0
RRULE:FREQ=WEEKLY;UNTIL=20241219T000000Z;INTERVAL=1;BYDAY=WE
TRANSP:OPAQUE
END:VEVENT
END:VCALENDAR